BEGIN:VCALENDAR
VERSION:2.0
PRODID:-//wp-events-plugin.com//6.3//EN
TZID:America/Toronto
X-WR-TIMEZONE:America/Toronto
BEGIN:VEVENT
UID:0-439@omh-ohcc.ca
DTSTART;TZID=America/Toronto:20260503T140000
DTEND;TZID=America/Toronto:20260503T170000
DTSTAMP:20260424T024933Z
URL:https://omh-ohcc.ca/hu/events/anyak-napja-3/
SUMMARY:Anyák napja
DESCRIPTION:14.00 — műsor\n15.00 — ebéd
CATEGORIES:Ebéd,Gyermekeknek,Kulturális,Ünnep
END:VEVENT
BEGIN:VTIMEZONE
TZID:America/Toronto
X-LIC-LOCATION:America/Toronto
BEGIN:DAYLIGHT
DTSTART:20260308T030000
TZOFFSETFROM:-0500
TZOFFSETTO:-0400
TZNAME:EDT
END:DAYLIGHT
END:VTIMEZONE
END:VCALENDAR