BEGIN:VCALENDAR
VERSION:2.0
PRODID:-//wp-events-plugin.com//6.3//EN
TZID:America/Toronto
X-WR-TIMEZONE:America/Toronto
BEGIN:VEVENT
UID:0-404@omh-ohcc.ca
DTSTART;TZID=America/Toronto:20260503T140000
DTEND;TZID=America/Toronto:20260503T170000
DTSTAMP:20260424T024959Z
URL:https://omh-ohcc.ca/en/events/mothers-day-3/
SUMMARY:Mother's Day
DESCRIPTION:14:00 - Festive Program\n15:00 - Lunch
CATEGORIES:Celebration,Children,Cultural,Lunch
END:VEVENT
BEGIN:VTIMEZONE
TZID:America/Toronto
X-LIC-LOCATION:America/Toronto
BEGIN:DAYLIGHT
DTSTART:20260308T030000
TZOFFSETFROM:-0500
TZOFFSETTO:-0400
TZNAME:EDT
END:DAYLIGHT
END:VTIMEZONE
END:VCALENDAR